BEGIN:VCALENDAR
VERSION:2.0
PRODID:-//Nabécor - ECPv6.0.9//NONSGML v1.0//EN
CALSCALE:GREGORIAN
METHOD:PUBLISH
X-ORIGINAL-URL:https://www.nabecor.fr
X-WR-CALDESC:évènements pour Nabécor
REFRESH-INTERVAL;VALUE=DURATION:PT1H
X-Robots-Tag:noindex
X-PUBLISHED-TTL:PT1H
BEGIN:VTIMEZONE
TZID:Europe/Paris
BEGIN:DAYLIGHT
TZOFFSETFROM:+0100
TZOFFSETTO:+0200
TZNAME:CEST
DTSTART:20230326T010000
END:DAYLIGHT
BEGIN:STANDARD
TZOFFSETFROM:+0200
TZOFFSETTO:+0100
TZNAME:CET
DTSTART:20231029T010000
END:STANDARD
END:VTIMEZONE
BEGIN:VEVENT
DTSTART;TZID=Europe/Paris:20230704T140000
DTEND;TZID=Europe/Paris:20230704T140000
DTSTAMP:20260423T123841
CREATED:20230608T124849Z
LAST-MODIFIED:20230619T132354Z
UID:2284-1688479200-1688479200@www.nabecor.fr
SUMMARY:Livres anciens et modernes
DESCRIPTION:Lots visibles sur :  \n   
URL:https://www.nabecor.fr/event/livres-anciens-et-modernes-5/
LOCATION:Nancy\, 52 rue de Nabécor\, Nancy\, 54000\, France
CATEGORIES:Livres - Manuscrits - Autographes - Bandes dessinées
ORGANIZER;CN="Nab%C3%A9cor":MAILTO:contact@nabecor.fr
END:VEVENT
BEGIN:VEVENT
DTSTART;TZID=Europe/Paris:20230712T140000
DTEND;TZID=Europe/Paris:20230712T140000
DTSTAMP:20260423T123841
CREATED:20230608T125055Z
LAST-MODIFIED:20230619T130639Z
UID:2286-1689170400-1689170400@www.nabecor.fr
SUMMARY:Tableaux\, meubles et objets d'arts
DESCRIPTION:Lots visibles sur :  \n    
URL:https://www.nabecor.fr/event/tableaux-meubles-et-objets-darts-2/
LOCATION:Nancy\, 52 rue de Nabécor\, Nancy\, 54000\, France
CATEGORIES:Vente de semaine
ORGANIZER;CN="Nab%C3%A9cor":MAILTO:contact@nabecor.fr
END:VEVENT
BEGIN:VEVENT
DTSTART;TZID=Europe/Paris:20230720T140000
DTEND;TZID=Europe/Paris:20230720T140000
DTSTAMP:20260423T123841
CREATED:20230608T125750Z
LAST-MODIFIED:20230619T131848Z
UID:2289-1689861600-1689861600@www.nabecor.fr
SUMMARY:Art religieux\, tableaux et objets d'art
DESCRIPTION:Lots visibles sur :  \n    
URL:https://www.nabecor.fr/event/art-religieux-tableaux-et-objets-dart/
LOCATION:Nancy\, 52 rue de Nabécor\, Nancy\, 54000\, France
ORGANIZER;CN="Nab%C3%A9cor":MAILTO:contact@nabecor.fr
END:VEVENT
BEGIN:VEVENT
DTSTART;TZID=Europe/Paris:20230726T143000
DTEND;TZID=Europe/Paris:20230726T153000
DTSTAMP:20260423T123841
CREATED:20230710T090121Z
LAST-MODIFIED:20230725T091441Z
UID:2324-1690381800-1690385400@www.nabecor.fr
SUMMARY:Vente de véhicules
DESCRIPTION:Lots visibles sur :
URL:https://www.nabecor.fr/event/vente-de-vehicules-4/
LOCATION:Nancy\, 52 rue de Nabécor\, Nancy\, 54000\, France
CATEGORIES:Vente de semaine
ORGANIZER;CN="Nab%C3%A9cor":MAILTO:contact@nabecor.fr
END:VEVENT
END:VCALENDAR