BEGIN:VCALENDAR
VERSION:2.0
PRODID:-//Nabécor - ECPv6.0.9//NONSGML v1.0//EN
CALSCALE:GREGORIAN
METHOD:PUBLISH
X-WR-CALNAME:Nabécor
X-ORIGINAL-URL:https://www.nabecor.fr
X-WR-CALDESC:évènements pour Nabécor
REFRESH-INTERVAL;VALUE=DURATION:PT1H
X-Robots-Tag:noindex
X-PUBLISHED-TTL:PT1H
BEGIN:VTIMEZONE
TZID:Europe/Paris
BEGIN:DAYLIGHT
TZOFFSETFROM:+0100
TZOFFSETTO:+0200
TZNAME:CEST
DTSTART:20230326T010000
END:DAYLIGHT
BEGIN:STANDARD
TZOFFSETFROM:+0200
TZOFFSETTO:+0100
TZNAME:CET
DTSTART:20231029T010000
END:STANDARD
END:VTIMEZONE
BEGIN:VEVENT
DTSTART;TZID=Europe/Paris:20230603T140000
DTEND;TZID=Europe/Paris:20230603T140000
DTSTAMP:20260423T123558
CREATED:20230504T143026Z
LAST-MODIFIED:20230523T155213Z
UID:2255-1685800800-1685800800@www.nabecor.fr
SUMMARY:Bijoux\, tableaux\, meubles et objets d'art
DESCRIPTION:Lots visibles sur :  \n       \n 
URL:https://www.nabecor.fr/event/bijoux-or-tableaux-meubles-et-objets-dart/
LOCATION:Nancy\, 52 rue de Nabécor\, Nancy\, 54000\, France
ORGANIZER;CN="Nab%C3%A9cor":MAILTO:contact@nabecor.fr
END:VEVENT
BEGIN:VEVENT
DTSTART;TZID=Europe/Paris:20230614T143000
DTEND;TZID=Europe/Paris:20230614T143000
DTSTAMP:20260423T123558
CREATED:20230608T124142Z
LAST-MODIFIED:20230608T124948Z
UID:2278-1686753000-1686753000@www.nabecor.fr
SUMMARY:Lingots et pièces d'or (sans exposition et sans live)
DESCRIPTION:     \n  \n 
URL:https://www.nabecor.fr/event/lingots-et-pieces-dor-sans-exposition-et-sans-live/
LOCATION:Nancy\, 52 rue de Nabécor\, Nancy\, 54000\, France
CATEGORIES:Vente de semaine
ORGANIZER;CN="Nab%C3%A9cor":MAILTO:contact@nabecor.fr
END:VEVENT
BEGIN:VEVENT
DTSTART;TZID=Europe/Paris:20230629T140000
DTEND;TZID=Europe/Paris:20230629T140000
DTSTAMP:20260423T123558
CREATED:20230601T135106Z
LAST-MODIFIED:20230623T134720Z
UID:2270-1688047200-1688047200@www.nabecor.fr
SUMMARY:Grands vins (sur désignation)
DESCRIPTION:Lots visibles sur :  \n   
URL:https://www.nabecor.fr/event/grands-vins/
LOCATION:Nancy\, 52 rue de Nabécor\, Nancy\, 54000\, France
CATEGORIES:Vente de semaine
ORGANIZER;CN="Nab%C3%A9cor":MAILTO:contact@nabecor.fr
END:VEVENT
END:VCALENDAR