BEGIN:VCALENDAR
VERSION:2.0
PRODID:-//Nabécor - ECPv6.0.9//NONSGML v1.0//EN
CALSCALE:GREGORIAN
METHOD:PUBLISH
X-ORIGINAL-URL:https://www.nabecor.fr
X-WR-CALDESC:évènements pour Nabécor
REFRESH-INTERVAL;VALUE=DURATION:PT1H
X-Robots-Tag:noindex
X-PUBLISHED-TTL:PT1H
BEGIN:VTIMEZONE
TZID:Europe/Paris
BEGIN:DAYLIGHT
TZOFFSETFROM:+0100
TZOFFSETTO:+0200
TZNAME:CEST
DTSTART:20220327T010000
END:DAYLIGHT
BEGIN:STANDARD
TZOFFSETFROM:+0200
TZOFFSETTO:+0100
TZNAME:CET
DTSTART:20221030T010000
END:STANDARD
END:VTIMEZONE
BEGIN:VEVENT
DTSTART;TZID=Europe/Paris:20221004T140000
DTEND;TZID=Europe/Paris:20221004T140000
DTSTAMP:20260424T010755
CREATED:20220905T132141Z
LAST-MODIFIED:20220905T132141Z
UID:1992-1664892000-1664892000@www.nabecor.fr
SUMMARY:Bijoux fantaisie\, objets de vitrine\, tableaux\, meubles et objets d'art
DESCRIPTION:Lots visibles sur : 
URL:https://www.nabecor.fr/event/bijoux-fantaisie-objets-de-vitrine-tableaux-meubles-et-objets-dart/
LOCATION:Nancy\, 52 rue de Nabécor\, Nancy\, 54000\, France
ORGANIZER;CN="Nab%C3%A9cor":MAILTO:contact@nabecor.fr
END:VEVENT
BEGIN:VEVENT
DTSTART;TZID=Europe/Paris:20221015T140000
DTEND;TZID=Europe/Paris:20221015T140000
DTSTAMP:20260424T010755
CREATED:20220905T141351Z
LAST-MODIFIED:20220905T141546Z
UID:2006-1665842400-1665842400@www.nabecor.fr
SUMMARY:Bijoux\, tableaux\, meubles et objets d'art
DESCRIPTION:
URL:https://www.nabecor.fr/event/bijoux-tableaux-meubles-et-objets-dart-2/
LOCATION:Nancy\, 52 rue de Nabécor\, Nancy\, 54000\, France
CATEGORIES:Belle vente mobilière
ORGANIZER;CN="Nab%C3%A9cor":MAILTO:contact@nabecor.fr
END:VEVENT
BEGIN:VEVENT
DTSTART;TZID=Europe/Paris:20221025T140000
DTEND;TZID=Europe/Paris:20221025T140000
DTSTAMP:20260424T010755
CREATED:20220905T150046Z
LAST-MODIFIED:20220905T150046Z
UID:2013-1666706400-1666706400@www.nabecor.fr
SUMMARY:Vente de livres
DESCRIPTION:
URL:https://www.nabecor.fr/event/vente-de-livres/
LOCATION:Nancy\, 52 rue de Nabécor\, Nancy\, 54000\, France
CATEGORIES:Livres - Manuscrits - Autographes - Bandes dessinées
ORGANIZER;CN="Nab%C3%A9cor":MAILTO:contact@nabecor.fr
END:VEVENT
END:VCALENDAR