BEGIN:VCALENDAR
VERSION:2.0
PRODID:-//Nabécor - ECPv6.0.9//NONSGML v1.0//EN
CALSCALE:GREGORIAN
METHOD:PUBLISH
X-ORIGINAL-URL:https://www.nabecor.fr
X-WR-CALDESC:évènements pour Nabécor
REFRESH-INTERVAL;VALUE=DURATION:PT1H
X-Robots-Tag:noindex
X-PUBLISHED-TTL:PT1H
BEGIN:VTIMEZONE
TZID:Europe/Paris
BEGIN:DAYLIGHT
TZOFFSETFROM:+0100
TZOFFSETTO:+0200
TZNAME:CEST
DTSTART:20220327T010000
END:DAYLIGHT
BEGIN:STANDARD
TZOFFSETFROM:+0200
TZOFFSETTO:+0100
TZNAME:CET
DTSTART:20221030T010000
END:STANDARD
END:VTIMEZONE
BEGIN:VEVENT
DTSTART;TZID=Europe/Paris:20220310T140000
DTEND;TZID=Europe/Paris:20220310T140000
DTSTAMP:20260424T131029
CREATED:20220303T170047Z
LAST-MODIFIED:20220303T170229Z
UID:1902-1646920800-1646920800@www.nabecor.fr
SUMMARY:Timbres et cartes postales
DESCRIPTION:Lots visibles sur:     
URL:https://www.nabecor.fr/event/timbres-et-cartes-postales/
LOCATION:Nancy\, 52 rue de Nabécor\, Nancy\, 54000\, France
ORGANIZER;CN="Nab%C3%A9cor":MAILTO:contact@nabecor.fr
END:VEVENT
BEGIN:VEVENT
DTSTART;TZID=Europe/Paris:20220317T143000
DTEND;TZID=Europe/Paris:20220317T143000
DTSTAMP:20260424T131029
CREATED:20220303T170606Z
LAST-MODIFIED:20220303T170606Z
UID:1909-1647527400-1647527400@www.nabecor.fr
SUMMARY:Véhicules utilitaires
DESCRIPTION:Lots visibles sur : 
URL:https://www.nabecor.fr/event/vehicules-utilitaires/
LOCATION:Nancy\, 52 rue de Nabécor\, Nancy\, 54000\, France
ORGANIZER;CN="Nab%C3%A9cor":MAILTO:contact@nabecor.fr
END:VEVENT
BEGIN:VEVENT
DTSTART;TZID=Europe/Paris:20220326T140000
DTEND;TZID=Europe/Paris:20220326T140000
DTSTAMP:20260424T131029
CREATED:20211125T165612Z
LAST-MODIFIED:20211125T165612Z
UID:1868-1648303200-1648303200@www.nabecor.fr
SUMMARY:Meubles et objets d'arts du XXe
DESCRIPTION:Lots visibles sur:     
URL:https://www.nabecor.fr/event/meubles-et-objets-darts-du-xxe/
LOCATION:Nancy\, 52 rue de Nabécor\, Nancy\, 54000\, France
ORGANIZER;CN="Nab%C3%A9cor":MAILTO:contact@nabecor.fr
END:VEVENT
END:VCALENDAR