BEGIN:VCALENDAR
VERSION:2.0
PRODID:-//Nabécor - ECPv6.0.9//NONSGML v1.0//EN
CALSCALE:GREGORIAN
METHOD:PUBLISH
X-WR-CALNAME:Nabécor
X-ORIGINAL-URL:https://www.nabecor.fr
X-WR-CALDESC:évènements pour Nabécor
REFRESH-INTERVAL;VALUE=DURATION:PT1H
X-Robots-Tag:noindex
X-PUBLISHED-TTL:PT1H
BEGIN:VTIMEZONE
TZID:Europe/Paris
BEGIN:DAYLIGHT
TZOFFSETFROM:+0100
TZOFFSETTO:+0200
TZNAME:CEST
DTSTART:20230326T010000
END:DAYLIGHT
BEGIN:STANDARD
TZOFFSETFROM:+0200
TZOFFSETTO:+0100
TZNAME:CET
DTSTART:20231029T010000
END:STANDARD
BEGIN:DAYLIGHT
TZOFFSETFROM:+0100
TZOFFSETTO:+0200
TZNAME:CEST
DTSTART:20240331T010000
END:DAYLIGHT
BEGIN:STANDARD
TZOFFSETFROM:+0200
TZOFFSETTO:+0100
TZNAME:CET
DTSTART:20241027T010000
END:STANDARD
BEGIN:DAYLIGHT
TZOFFSETFROM:+0100
TZOFFSETTO:+0200
TZNAME:CEST
DTSTART:20250330T010000
END:DAYLIGHT
BEGIN:STANDARD
TZOFFSETFROM:+0200
TZOFFSETTO:+0100
TZNAME:CET
DTSTART:20251026T010000
END:STANDARD
END:VTIMEZONE
BEGIN:VEVENT
DTSTART;TZID=Europe/Paris:20250927T140000
DTEND;TZID=Europe/Paris:20250927T140000
DTSTAMP:20260421T120640
CREATED:20250827T145727Z
LAST-MODIFIED:20250827T145727Z
UID:2480-1758981600-1758981600@www.nabecor.fr
SUMMARY:Bijoux\, tableaux\, objets d'art
DESCRIPTION:
URL:https://www.nabecor.fr/event/bijoux-tableaux-objets-dart-2/
LOCATION:Nancy\, 52 rue de Nabécor\, Nancy\, 54000\, France
ORGANIZER;CN="Nab%C3%A9cor":MAILTO:contact@nabecor.fr
END:VEVENT
BEGIN:VEVENT
DTSTART;TZID=Europe/Paris:20250917T140000
DTEND;TZID=Europe/Paris:20250917T140000
DTSTAMP:20260421T120640
CREATED:20250826T095201Z
LAST-MODIFIED:20250826T095201Z
UID:2476-1758117600-1758117600@www.nabecor.fr
SUMMARY:Succession Andrée et Jean CHAUMONT
DESCRIPTION:
URL:https://www.nabecor.fr/event/succession-andree-et-jean-chaumont/
LOCATION:Nancy\, 52 rue de Nabécor\, Nancy\, 54000\, France
ORGANIZER;CN="Nab%C3%A9cor":MAILTO:contact@nabecor.fr
END:VEVENT
BEGIN:VEVENT
DTSTART;VALUE=DATE:20250801
DTEND;VALUE=DATE:20250825
DTSTAMP:20260421T120640
CREATED:20250801T143418Z
LAST-MODIFIED:20250801T143418Z
UID:2472-1754006400-1756079999@www.nabecor.fr
SUMMARY:Fermeture estivale
DESCRIPTION:Madame\, Monsieur\, \n  \nL’étude sera fermée pour la période du 04/08/2025 au 24/08/25.\n\nNous prendrons connaissance de vos mails et messages à la réouverture.\n\nL’équipe de l’Hôtel des ventes Nabecor Enchères
URL:https://www.nabecor.fr/event/fermeture-estivale/
ORGANIZER;CN="Nab%C3%A9cor":MAILTO:contact@nabecor.fr
END:VEVENT
BEGIN:VEVENT
DTSTART;TZID=Europe/Paris:20250626T140000
DTEND;TZID=Europe/Paris:20250626T180000
DTSTAMP:20260421T120640
CREATED:20250616T080557Z
LAST-MODIFIED:20250616T080557Z
UID:2468-1750946400-1750960800@www.nabecor.fr
SUMMARY:Numismatique et philatélie
DESCRIPTION:
URL:https://www.nabecor.fr/event/numismatique-et-philatelie/
LOCATION:Nancy\, 52 rue de Nabécor\, Nancy\, 54000\, France
ORGANIZER;CN="Nab%C3%A9cor":MAILTO:contact@nabecor.fr
END:VEVENT
BEGIN:VEVENT
DTSTART;TZID=Europe/Paris:20250621T140000
DTEND;TZID=Europe/Paris:20250621T140000
DTSTAMP:20260421T120640
CREATED:20250616T080248Z
LAST-MODIFIED:20250616T080248Z
UID:2464-1750514400-1750514400@www.nabecor.fr
SUMMARY:Bijoux\, tableaux\, meubles et objets d'art
DESCRIPTION:
URL:https://www.nabecor.fr/event/bijoux-tableaux-meubles-et-objets-dart-14/
LOCATION:Nancy\, 52 rue de Nabécor\, Nancy\, 54000\, France
ORGANIZER;CN="Nab%C3%A9cor":MAILTO:contact@nabecor.fr
END:VEVENT
BEGIN:VEVENT
DTSTART;TZID=Europe/Paris:20250527T140000
DTEND;TZID=Europe/Paris:20250527T140000
DTSTAMP:20260421T120640
CREATED:20250411T090754Z
LAST-MODIFIED:20250411T090754Z
UID:2456-1748354400-1748354400@www.nabecor.fr
SUMMARY:Art Nouveau
DESCRIPTION:
URL:https://www.nabecor.fr/event/art-nouveau/
LOCATION:Nancy\, 52 rue de Nabécor\, Nancy\, 54000\, France
ORGANIZER;CN="Nab%C3%A9cor":MAILTO:contact@nabecor.fr
END:VEVENT
BEGIN:VEVENT
DTSTART;TZID=Europe/Paris:20250517T140000
DTEND;TZID=Europe/Paris:20250517T140000
DTSTAMP:20260421T120640
CREATED:20250411T085842Z
LAST-MODIFIED:20250411T090844Z
UID:2453-1747490400-1747490400@www.nabecor.fr
SUMMARY:Belle vente : bijoux\, tableaux\, meubles et objets d'art
DESCRIPTION:
URL:https://www.nabecor.fr/event/belle-vente-bijoux-tableaux-meubles-et-objets-dart-3/
LOCATION:Nancy\, 52 rue de Nabécor\, Nancy\, 54000\, France
ORGANIZER;CN="Nab%C3%A9cor":MAILTO:contact@nabecor.fr
END:VEVENT
BEGIN:VEVENT
DTSTART;TZID=Europe/Paris:20250429T140000
DTEND;TZID=Europe/Paris:20250429T140000
DTSTAMP:20260421T120640
CREATED:20250411T085141Z
LAST-MODIFIED:20250411T090919Z
UID:2449-1745935200-1745935200@www.nabecor.fr
SUMMARY:Livres : Bibliothèque diocésaine du Domaine de l'Asnée
DESCRIPTION:
URL:https://www.nabecor.fr/event/livres-bibliotheque-diocesaine-du-domaine-de-lasnee/
ORGANIZER;CN="Nab%C3%A9cor":MAILTO:contact@nabecor.fr
END:VEVENT
BEGIN:VEVENT
DTSTART;TZID=Europe/Paris:20250322T140000
DTEND;TZID=Europe/Paris:20250322T140000
DTSTAMP:20260421T120640
CREATED:20250311T084458Z
LAST-MODIFIED:20250311T084458Z
UID:2442-1742652000-1742652000@www.nabecor.fr
SUMMARY:Belle vente : bijoux\, tableaux\, meubles et objets d'art
DESCRIPTION:
URL:https://www.nabecor.fr/event/belle-vente-bijoux-tableaux-meubles-et-objets-dart-2/
LOCATION:Nancy\, 52 rue de Nabécor\, Nancy\, 54000\, France
ORGANIZER;CN="Nab%C3%A9cor":MAILTO:contact@nabecor.fr
END:VEVENT
BEGIN:VEVENT
DTSTART;TZID=Europe/Paris:20250207T140000
DTEND;TZID=Europe/Paris:20250207T140000
DTSTAMP:20260421T120640
CREATED:20250116T090929Z
LAST-MODIFIED:20250116T090929Z
UID:2430-1738936800-1738936800@www.nabecor.fr
SUMMARY:Vente Art Nouveau
DESCRIPTION:
URL:https://www.nabecor.fr/event/vente-art-nouveau/
LOCATION:Nancy\, 52 rue de Nabécor\, Nancy\, 54000\, France
ORGANIZER;CN="Nab%C3%A9cor":MAILTO:contact@nabecor.fr
END:VEVENT
BEGIN:VEVENT
DTSTART;TZID=Europe/Paris:20250201T140000
DTEND;TZID=Europe/Paris:20250201T140000
DTSTAMP:20260421T120640
CREATED:20250116T084945Z
LAST-MODIFIED:20250116T091415Z
UID:2427-1738418400-1738418400@www.nabecor.fr
SUMMARY:Belle vente : bijoux\, tableaux\, meubles et objets d'art
DESCRIPTION:
URL:https://www.nabecor.fr/event/belle-vente-bijoux-tableaux-meubles-et-objets-dart/
LOCATION:Nancy\, 52 rue de Nabécor\, Nancy\, 54000\, France
CATEGORIES:Belle vente mobilière
ORGANIZER;CN="Nab%C3%A9cor":MAILTO:contact@nabecor.fr
END:VEVENT
BEGIN:VEVENT
DTSTART;TZID=Europe/Paris:20240326T140000
DTEND;TZID=Europe/Paris:20240326T140000
DTSTAMP:20260421T120640
CREATED:20240219T092356Z
LAST-MODIFIED:20240219T092356Z
UID:2420-1711461600-1711461600@www.nabecor.fr
SUMMARY:Maroquinerie\, bijoux\, vêtements et accessoires de mode vintage.
DESCRIPTION:
URL:https://www.nabecor.fr/event/maroquinerie-bijoux-vetements-et-accessoires-de-mode-vintage/
LOCATION:Nancy\, 52 rue de Nabécor\, Nancy\, 54000\, France
ORGANIZER;CN="Nab%C3%A9cor":MAILTO:contact@nabecor.fr
END:VEVENT
BEGIN:VEVENT
DTSTART;TZID=Europe/Paris:20240312T140000
DTEND;TZID=Europe/Paris:20240312T140000
DTSTAMP:20260421T120640
CREATED:20240219T092303Z
LAST-MODIFIED:20240219T092303Z
UID:2423-1710252000-1710252000@www.nabecor.fr
SUMMARY:Bijoux\, tableaux\, meubles\, objets de vitrine et vins
DESCRIPTION:
URL:https://www.nabecor.fr/event/bijoux-tableaux-meubles-objets-de-vitrine-et-vins-2/
LOCATION:Nancy\, 52 rue de Nabécor\, Nancy\, 54000\, France
ORGANIZER;CN="Nab%C3%A9cor":MAILTO:contact@nabecor.fr
END:VEVENT
BEGIN:VEVENT
DTSTART;TZID=Europe/Paris:20240302T140000
DTEND;TZID=Europe/Paris:20240302T140000
DTSTAMP:20260421T120640
CREATED:20240219T092332Z
LAST-MODIFIED:20240219T092332Z
UID:2417-1709388000-1709388000@www.nabecor.fr
SUMMARY:Bijoux\, tableaux\, meubles et objets d'art
DESCRIPTION:
URL:https://www.nabecor.fr/event/bijoux-tableaux-meubles-et-objets-dart-13/
LOCATION:Nancy\, 52 rue de Nabécor\, Nancy\, 54000\, France
ORGANIZER;CN="Nab%C3%A9cor":MAILTO:contact@nabecor.fr
END:VEVENT
BEGIN:VEVENT
DTSTART;TZID=Europe/Paris:20240213T140000
DTEND;TZID=Europe/Paris:20240213T140000
DTSTAMP:20260421T120640
CREATED:20240125T152013Z
LAST-MODIFIED:20240125T152013Z
UID:2413-1707832800-1707832800@www.nabecor.fr
SUMMARY:Bijoux\, tableaux\, meubles\, objets de vitrine et vins
DESCRIPTION:
URL:https://www.nabecor.fr/event/bijoux-tableaux-meubles-objets-de-vitrine-et-vins/
LOCATION:Nancy\, 52 rue de Nabécor\, Nancy\, 54000\, France
ORGANIZER;CN="Nab%C3%A9cor":MAILTO:contact@nabecor.fr
END:VEVENT
BEGIN:VEVENT
DTSTART;TZID=Europe/Paris:20240203T140000
DTEND;TZID=Europe/Paris:20240203T140000
DTSTAMP:20260421T120640
CREATED:20240125T151507Z
LAST-MODIFIED:20240125T151507Z
UID:2410-1706968800-1706968800@www.nabecor.fr
SUMMARY:Bijoux\, tableaux\, meubles et objets d'art
DESCRIPTION:
URL:https://www.nabecor.fr/event/bijoux-tableaux-meubles-et-objets-dart-12/
LOCATION:Nancy\, 52 rue de Nabécor\, Nancy\, 54000\, France
ORGANIZER;CN="Nab%C3%A9cor":MAILTO:contact@nabecor.fr
END:VEVENT
BEGIN:VEVENT
DTSTART;TZID=Europe/Paris:20231206T140000
DTEND;TZID=Europe/Paris:20231206T140000
DTSTAMP:20260421T120640
CREATED:20231004T083315Z
LAST-MODIFIED:20231110T162800Z
UID:2403-1701871200-1701871200@www.nabecor.fr
SUMMARY:Vente de saint Nicolas : Jouets anciens
DESCRIPTION:
URL:https://www.nabecor.fr/event/vente-de-saint-nicolas-jouets-anciens/
LOCATION:Nancy\, 52 rue de Nabécor\, Nancy\, 54000\, France
CATEGORIES:Vente de semaine
ORGANIZER;CN="Nab%C3%A9cor":MAILTO:contact@nabecor.fr
END:VEVENT
BEGIN:VEVENT
DTSTART;TZID=Europe/Paris:20231114T140000
DTEND;TZID=Europe/Paris:20231114T140000
DTSTAMP:20260421T120640
CREATED:20230925T150420Z
LAST-MODIFIED:20230925T150420Z
UID:2400-1699970400-1699970400@www.nabecor.fr
SUMMARY:Livres anciens et modernes
DESCRIPTION:
URL:https://www.nabecor.fr/event/livres-anciens-et-modernes-6/
LOCATION:Nancy\, 52 rue de Nabécor\, Nancy\, 54000\, France
CATEGORIES:Livres - Manuscrits - Autographes - Bandes dessinées
ORGANIZER;CN="Nab%C3%A9cor":MAILTO:contact@nabecor.fr
END:VEVENT
BEGIN:VEVENT
DTSTART;TZID=Europe/Paris:20231104T140000
DTEND;TZID=Europe/Paris:20231104T140000
DTSTAMP:20260421T120640
CREATED:20230912T151543Z
LAST-MODIFIED:20230912T152314Z
UID:2391-1699106400-1699106400@www.nabecor.fr
SUMMARY:Bijoux\, tableaux\, meubles et objets d'art
DESCRIPTION:Lots visibles sur :  \n \n  \n 
URL:https://www.nabecor.fr/event/bijoux-tableaux-meubles-et-objets-dart-11/
LOCATION:Nancy\, 52 rue de Nabécor\, Nancy\, 54000\, France
CATEGORIES:Belle vente mobilière
ORGANIZER;CN="Nab%C3%A9cor":MAILTO:contact@nabecor.fr
END:VEVENT
BEGIN:VEVENT
DTSTART;TZID=Europe/Paris:20231019T140000
DTEND;TZID=Europe/Paris:20231019T140000
DTSTAMP:20260421T120640
CREATED:20230912T150811Z
LAST-MODIFIED:20230925T150110Z
UID:2389-1697724000-1697724000@www.nabecor.fr
SUMMARY:Bijoux\, tableaux\, meubles et objets de vitrine
DESCRIPTION:Lots visibles sur :  \n   \n 
URL:https://www.nabecor.fr/event/bijoux-tableaux-meubles-et-objets-de-vitrine/
LOCATION:Nancy\, 52 rue de Nabécor\, Nancy\, 54000\, France
CATEGORIES:Vente de semaine
ORGANIZER;CN="Nab%C3%A9cor":MAILTO:contact@nabecor.fr
END:VEVENT
BEGIN:VEVENT
DTSTART;TZID=Europe/Paris:20231012T140000
DTEND;TZID=Europe/Paris:20231012T140000
DTSTAMP:20260421T120640
CREATED:20230829T132641Z
LAST-MODIFIED:20230829T132641Z
UID:2372-1697119200-1697119200@www.nabecor.fr
SUMMARY:Vente de livres
DESCRIPTION:Lots visibles sur :  \n     \n 
URL:https://www.nabecor.fr/event/vente-de-livres-2/
LOCATION:Nancy\, 52 rue de Nabécor\, Nancy\, 54000\, France
CATEGORIES:Livres - Manuscrits - Autographes - Bandes dessinées
ORGANIZER;CN="Nab%C3%A9cor":MAILTO:contact@nabecor.fr
END:VEVENT
BEGIN:VEVENT
DTSTART;TZID=Europe/Paris:20231007T140000
DTEND;TZID=Europe/Paris:20231007T140000
DTSTAMP:20260421T120640
CREATED:20230725T095735Z
LAST-MODIFIED:20230829T151452Z
UID:2349-1696687200-1696687200@www.nabecor.fr
SUMMARY:Bijoux\, tableaux\, meubles et objets d'art
DESCRIPTION:Lots visibles sur :
URL:https://www.nabecor.fr/event/bijoux-tableaux-meubles-et-objets-dart-10/
LOCATION:Nancy\, 52 rue de Nabécor\, Nancy\, 54000\, France
CATEGORIES:Belle vente mobilière
ORGANIZER;CN="Nab%C3%A9cor":MAILTO:contact@nabecor.fr
END:VEVENT
BEGIN:VEVENT
DTSTART;TZID=Europe/Paris:20230921T140000
DTEND;TZID=Europe/Paris:20230921T140000
DTSTAMP:20260421T120640
CREATED:20230725T141028Z
LAST-MODIFIED:20230831T133312Z
UID:2351-1695304800-1695304800@www.nabecor.fr
SUMMARY:Bijoux\, tableaux\, timbres\, meubles et objets de vitrine
DESCRIPTION:Lots visibles sur :  \n    
URL:https://www.nabecor.fr/event/bijoux-tableaux-timbres-meubles-et-objets-de-vitrine/
LOCATION:Nancy\, 52 rue de Nabécor\, Nancy\, 54000\, France
CATEGORIES:Vente de semaine
ORGANIZER;CN="Nab%C3%A9cor":MAILTO:contact@nabecor.fr
END:VEVENT
BEGIN:VEVENT
DTSTART;TZID=Europe/Paris:20230916T140000
DTEND;TZID=Europe/Paris:20230916T140000
DTSTAMP:20260421T120640
CREATED:20230608T130053Z
LAST-MODIFIED:20230831T133945Z
UID:2293-1694872800-1694872800@www.nabecor.fr
SUMMARY:Bijoux\, tableaux\, meubles et objets d'art
DESCRIPTION:Lots visibles sur :  \n    
URL:https://www.nabecor.fr/event/bijoux-tableaux-meubles-et-objets-dart-9/
LOCATION:Nancy\, 52 rue de Nabécor\, Nancy\, 54000\, France
CATEGORIES:Belle vente mobilière
ORGANIZER;CN="Nab%C3%A9cor":MAILTO:contact@nabecor.fr
END:VEVENT
BEGIN:VEVENT
DTSTART;TZID=Europe/Paris:20230905T140000
DTEND;TZID=Europe/Paris:20230905T140000
DTSTAMP:20260421T120640
CREATED:20230608T125927Z
LAST-MODIFIED:20230831T134229Z
UID:2291-1693922400-1693922400@www.nabecor.fr
SUMMARY:Arts d'Asie
DESCRIPTION:Lots visibles sur :  \n    
URL:https://www.nabecor.fr/event/arts-dasie/
LOCATION:Nancy\, 52 rue de Nabécor\, Nancy\, 54000\, France
ORGANIZER;CN="Nab%C3%A9cor":MAILTO:contact@nabecor.fr
END:VEVENT
BEGIN:VEVENT
DTSTART;TZID=Europe/Paris:20230828T140000
DTEND;TZID=Europe/Paris:20230828T140000
DTSTAMP:20260421T120640
CREATED:20230725T095041Z
LAST-MODIFIED:20230810T085413Z
UID:2347-1693231200-1693231200@www.nabecor.fr
SUMMARY:Vente courante (SANS LIVE)
DESCRIPTION:Lots visibles sur :  \n   
URL:https://www.nabecor.fr/event/vente-courante-sans-live-3/
LOCATION:Nancy\, 52 rue de Nabécor\, Nancy\, 54000\, France
CATEGORIES:Vente de semaine
ORGANIZER;CN="Nab%C3%A9cor":MAILTO:contact@nabecor.fr
END:VEVENT
BEGIN:VEVENT
DTSTART;TZID=Europe/Paris:20230726T143000
DTEND;TZID=Europe/Paris:20230726T153000
DTSTAMP:20260421T120640
CREATED:20230710T090121Z
LAST-MODIFIED:20230725T091441Z
UID:2324-1690381800-1690385400@www.nabecor.fr
SUMMARY:Vente de véhicules
DESCRIPTION:Lots visibles sur :
URL:https://www.nabecor.fr/event/vente-de-vehicules-4/
LOCATION:Nancy\, 52 rue de Nabécor\, Nancy\, 54000\, France
CATEGORIES:Vente de semaine
ORGANIZER;CN="Nab%C3%A9cor":MAILTO:contact@nabecor.fr
END:VEVENT
BEGIN:VEVENT
DTSTART;TZID=Europe/Paris:20230720T140000
DTEND;TZID=Europe/Paris:20230720T140000
DTSTAMP:20260421T120640
CREATED:20230608T125750Z
LAST-MODIFIED:20230619T131848Z
UID:2289-1689861600-1689861600@www.nabecor.fr
SUMMARY:Art religieux\, tableaux et objets d'art
DESCRIPTION:Lots visibles sur :  \n    
URL:https://www.nabecor.fr/event/art-religieux-tableaux-et-objets-dart/
LOCATION:Nancy\, 52 rue de Nabécor\, Nancy\, 54000\, France
ORGANIZER;CN="Nab%C3%A9cor":MAILTO:contact@nabecor.fr
END:VEVENT
BEGIN:VEVENT
DTSTART;TZID=Europe/Paris:20230712T140000
DTEND;TZID=Europe/Paris:20230712T140000
DTSTAMP:20260421T120640
CREATED:20230608T125055Z
LAST-MODIFIED:20230619T130639Z
UID:2286-1689170400-1689170400@www.nabecor.fr
SUMMARY:Tableaux\, meubles et objets d'arts
DESCRIPTION:Lots visibles sur :  \n    
URL:https://www.nabecor.fr/event/tableaux-meubles-et-objets-darts-2/
LOCATION:Nancy\, 52 rue de Nabécor\, Nancy\, 54000\, France
CATEGORIES:Vente de semaine
ORGANIZER;CN="Nab%C3%A9cor":MAILTO:contact@nabecor.fr
END:VEVENT
BEGIN:VEVENT
DTSTART;TZID=Europe/Paris:20230704T140000
DTEND;TZID=Europe/Paris:20230704T140000
DTSTAMP:20260421T120640
CREATED:20230608T124849Z
LAST-MODIFIED:20230619T132354Z
UID:2284-1688479200-1688479200@www.nabecor.fr
SUMMARY:Livres anciens et modernes
DESCRIPTION:Lots visibles sur :  \n   
URL:https://www.nabecor.fr/event/livres-anciens-et-modernes-5/
LOCATION:Nancy\, 52 rue de Nabécor\, Nancy\, 54000\, France
CATEGORIES:Livres - Manuscrits - Autographes - Bandes dessinées
ORGANIZER;CN="Nab%C3%A9cor":MAILTO:contact@nabecor.fr
END:VEVENT
END:VCALENDAR