BEGIN:VCALENDAR
VERSION:2.0
PRODID:-//Nabécor - ECPv6.0.9//NONSGML v1.0//EN
CALSCALE:GREGORIAN
METHOD:PUBLISH
X-ORIGINAL-URL:https://www.nabecor.fr
X-WR-CALDESC:évènements pour Nabécor
REFRESH-INTERVAL;VALUE=DURATION:PT1H
X-Robots-Tag:noindex
X-PUBLISHED-TTL:PT1H
BEGIN:VTIMEZONE
TZID:Europe/Paris
BEGIN:DAYLIGHT
TZOFFSETFROM:+0100
TZOFFSETTO:+0200
TZNAME:CEST
DTSTART:20230326T010000
END:DAYLIGHT
BEGIN:STANDARD
TZOFFSETFROM:+0200
TZOFFSETTO:+0100
TZNAME:CET
DTSTART:20231029T010000
END:STANDARD
END:VTIMEZONE
BEGIN:VEVENT
DTSTART;TZID=Europe/Paris:20230516T140000
DTEND;TZID=Europe/Paris:20230516T140000
DTSTAMP:20260423T154523
CREATED:20230313T145818Z
LAST-MODIFIED:20230313T150523Z
UID:2207-1684245600-1684245600@www.nabecor.fr
SUMMARY:Design - des années 1950 aux années 1980 (en préparation)
DESCRIPTION:Lots visibles sur :  \n     \n 
URL:https://www.nabecor.fr/event/design-des-annees-1950-aux-annees-1980-en-preparation/
LOCATION:Nancy\, 52 rue de Nabécor\, Nancy\, 54000\, France
ORGANIZER;CN="Nab%C3%A9cor":MAILTO:contact@nabecor.fr
END:VEVENT
END:VCALENDAR