BEGIN:VCALENDAR
VERSION:2.0
PRODID:-//Nabécor - ECPv6.0.9//NONSGML v1.0//EN
CALSCALE:GREGORIAN
METHOD:PUBLISH
X-ORIGINAL-URL:https://www.nabecor.fr
X-WR-CALDESC:évènements pour Nabécor
REFRESH-INTERVAL;VALUE=DURATION:PT1H
X-Robots-Tag:noindex
X-PUBLISHED-TTL:PT1H
BEGIN:VTIMEZONE
TZID:Europe/Paris
BEGIN:DAYLIGHT
TZOFFSETFROM:+0100
TZOFFSETTO:+0200
TZNAME:CEST
DTSTART:20220327T010000
END:DAYLIGHT
BEGIN:STANDARD
TZOFFSETFROM:+0200
TZOFFSETTO:+0100
TZNAME:CET
DTSTART:20221030T010000
END:STANDARD
END:VTIMEZONE
BEGIN:VEVENT
DTSTART;TZID=Europe/Paris:20221110T093000
DTEND;TZID=Europe/Paris:20221110T093000
DTSTAMP:20260424T010658
CREATED:20221104T163109Z
LAST-MODIFIED:20221104T170636Z
UID:2037-1668072600-1668072600@www.nabecor.fr
SUMMARY:Vente judiciaire : meubles\, objets d'art et divers
DESCRIPTION:Lots visibles sur :
URL:https://www.nabecor.fr/event/vente-judiciaire-meubles-objets-dart-et-divers/
LOCATION:Nancy\, 52 rue de Nabécor\, Nancy\, 54000\, France
CATEGORIES:Vente de semaine
ORGANIZER;CN="Nab%C3%A9cor":MAILTO:contact@nabecor.fr
END:VEVENT
END:VCALENDAR