BEGIN:VCALENDAR
VERSION:2.0
PRODID:-//Nabécor - ECPv6.0.9//NONSGML v1.0//EN
CALSCALE:GREGORIAN
METHOD:PUBLISH
X-WR-CALNAME:Nabécor
X-ORIGINAL-URL:https://www.nabecor.fr
X-WR-CALDESC:évènements pour Nabécor
REFRESH-INTERVAL;VALUE=DURATION:PT1H
X-Robots-Tag:noindex
X-PUBLISHED-TTL:PT1H
BEGIN:VTIMEZONE
TZID:Europe/Paris
BEGIN:DAYLIGHT
TZOFFSETFROM:+0100
TZOFFSETTO:+0200
TZNAME:CEST
DTSTART:20220327T010000
END:DAYLIGHT
BEGIN:STANDARD
TZOFFSETFROM:+0200
TZOFFSETTO:+0100
TZNAME:CET
DTSTART:20221030T010000
END:STANDARD
END:VTIMEZONE
BEGIN:VEVENT
DTSTART;VALUE=DATE:20220906
DTEND;VALUE=DATE:20220907
DTSTAMP:20260424T044100
CREATED:20220707T090556Z
LAST-MODIFIED:20220707T090556Z
UID:1971-1662422400-1662508799@www.nabecor.fr
SUMMARY:Objets de vitrine\, tableaux\, meubles et objets d'art
DESCRIPTION:Lots visibles sur :
URL:https://www.nabecor.fr/event/objets-de-vitrine-tableaux-meubles-et-objets-dart/
LOCATION:Nancy\, 52 rue de Nabécor\, Nancy\, 54000\, France
ORGANIZER;CN="Nab%C3%A9cor":MAILTO:contact@nabecor.fr
END:VEVENT
END:VCALENDAR