BEGIN:VCALENDAR
VERSION:2.0
PRODID:-//Nabécor - ECPv6.0.9//NONSGML v1.0//EN
CALSCALE:GREGORIAN
METHOD:PUBLISH
X-WR-CALNAME:Nabécor
X-ORIGINAL-URL:https://www.nabecor.fr
X-WR-CALDESC:évènements pour Nabécor
REFRESH-INTERVAL;VALUE=DURATION:PT1H
X-Robots-Tag:noindex
X-PUBLISHED-TTL:PT1H
BEGIN:VTIMEZONE
TZID:Europe/Paris
BEGIN:DAYLIGHT
TZOFFSETFROM:+0100
TZOFFSETTO:+0200
TZNAME:CEST
DTSTART:20210328T010000
END:DAYLIGHT
BEGIN:STANDARD
TZOFFSETFROM:+0200
TZOFFSETTO:+0100
TZNAME:CET
DTSTART:20211031T010000
END:STANDARD
END:VTIMEZONE
BEGIN:VEVENT
DTSTART;TZID=Europe/Paris:20210616T140000
DTEND;TZID=Europe/Paris:20210616T140000
DTSTAMP:20260425T060854
CREATED:20210610T132022Z
LAST-MODIFIED:20210610T133430Z
UID:1756-1623852000-1623852000@www.nabecor.fr
SUMMARY:Vins\, champagnes et spiritueux (vente uniquement en Live)
DESCRIPTION:Lots visibles sur:      \n  \n  \n\n		\n		\n			\n				\n			\n			\n				\n			\n			\n				\n			\n			\n				\n			\n			\n				\n			\n		\n\n 
URL:https://www.nabecor.fr/event/vins-champagnes-et-spiritueux-vente-uniquement-en-live/
LOCATION:Nancy\, 52 rue de Nabécor\, Nancy\, 54000\, France
ATTACH;FMTTYPE=image/jpeg:https://www.nabecor.fr/wp-content/uploads/2021/06/72-2.jpg
ORGANIZER;CN="Nab%C3%A9cor":MAILTO:contact@nabecor.fr
END:VEVENT
END:VCALENDAR